BEGIN:VCALENDAR
VERSION:2.0
PRODID:-//Timb Music - ECPv6.15.20//NONSGML v1.0//EN
CALSCALE:GREGORIAN
METHOD:PUBLISH
X-WR-CALNAME:Timb Music
X-ORIGINAL-URL:https://www.timbmusic.org
X-WR-CALDESC:Events for Timb Music
REFRESH-INTERVAL;VALUE=DURATION:PT1H
X-Robots-Tag:noindex
X-PUBLISHED-TTL:PT1H
BEGIN:VTIMEZONE
TZID:America/Los_Angeles
BEGIN:DAYLIGHT
TZOFFSETFROM:-0800
TZOFFSETTO:-0700
TZNAME:PDT
DTSTART:20230312T100000
END:DAYLIGHT
BEGIN:STANDARD
TZOFFSETFROM:-0700
TZOFFSETTO:-0800
TZNAME:PST
DTSTART:20231105T090000
END:STANDARD
BEGIN:DAYLIGHT
TZOFFSETFROM:-0800
TZOFFSETTO:-0700
TZNAME:PDT
DTSTART:20240310T100000
END:DAYLIGHT
BEGIN:STANDARD
TZOFFSETFROM:-0700
TZOFFSETTO:-0800
TZNAME:PST
DTSTART:20241103T090000
END:STANDARD
BEGIN:DAYLIGHT
TZOFFSETFROM:-0800
TZOFFSETTO:-0700
TZNAME:PDT
DTSTART:20250309T100000
END:DAYLIGHT
BEGIN:STANDARD
TZOFFSETFROM:-0700
TZOFFSETTO:-0800
TZNAME:PST
DTSTART:20251102T090000
END:STANDARD
BEGIN:DAYLIGHT
TZOFFSETFROM:-0800
TZOFFSETTO:-0700
TZNAME:PDT
DTSTART:20260308T100000
END:DAYLIGHT
BEGIN:STANDARD
TZOFFSETFROM:-0700
TZOFFSETTO:-0800
TZNAME:PST
DTSTART:20261101T090000
END:STANDARD
END:VTIMEZONE
BEGIN:VEVENT
DTSTART;TZID=America/Los_Angeles:20251212T190000
DTEND;TZID=America/Los_Angeles:20251212T203000
DTSTAMP:20260419T222631
CREATED:20250818T232718Z
LAST-MODIFIED:20250818T232718Z
UID:1741-1765566000-1765571400@www.timbmusic.org
SUMMARY:Winter Gala Concert - Jazz Ensemble I\, Wind Symphony\, Philharmonic\, and Vocal Music
DESCRIPTION:
URL:https://www.timbmusic.org/event/winter-gala-concert-jazz-ensemble-i-wind-symphony-philharmonic-and-vocal-music/
LOCATION:NHS Theater
CATEGORIES:Concerts
END:VEVENT
BEGIN:VEVENT
DTSTART;TZID=America/Los_Angeles:20251209T190000
DTEND;TZID=America/Los_Angeles:20251209T203000
DTSTAMP:20260419T222631
CREATED:20250818T232545Z
LAST-MODIFIED:20250818T232545Z
UID:1739-1765306800-1765312200@www.timbmusic.org
SUMMARY:Vocal Music Winter Concert
DESCRIPTION:
URL:https://www.timbmusic.org/event/vocal-music-winter-concert-2/
LOCATION:NHS Theater
CATEGORIES:Concerts
END:VEVENT
BEGIN:VEVENT
DTSTART;TZID=America/Los_Angeles:20251204T190000
DTEND;TZID=America/Los_Angeles:20251204T203000
DTSTAMP:20260419T222631
CREATED:20250818T232417Z
LAST-MODIFIED:20250818T232417Z
UID:1737-1764874800-1764880200@www.timbmusic.org
SUMMARY:Instrumental Winter Concert - Guitar\, Symphonic Strings\, Concert Orchestra
DESCRIPTION:
URL:https://www.timbmusic.org/event/instrumental-winter-concert-guitar-symphonic-strings-concert-orchestra/
LOCATION:NHS Theater
CATEGORIES:Concerts
END:VEVENT
BEGIN:VEVENT
DTSTART;TZID=America/Los_Angeles:20251203T190000
DTEND;TZID=America/Los_Angeles:20251203T203000
DTSTAMP:20260419T222631
CREATED:20250818T232222Z
LAST-MODIFIED:20250818T232222Z
UID:1735-1764788400-1764793800@www.timbmusic.org
SUMMARY:Instrumental Winter Concert - Concert Band\, Symphonic Band\, Wind Ensemble
DESCRIPTION:
URL:https://www.timbmusic.org/event/instrumental-winter-concert-concert-band-symphonic-band-wind-ensemble/
LOCATION:NHS Theater
CATEGORIES:Concerts
END:VEVENT
BEGIN:VEVENT
DTSTART;TZID=America/Los_Angeles:20251007T190000
DTEND;TZID=America/Los_Angeles:20251007T203000
DTSTAMP:20260419T222631
CREATED:20250818T230918Z
LAST-MODIFIED:20250818T230918Z
UID:1725-1759863600-1759869000@www.timbmusic.org
SUMMARY:Fall Band Concert
DESCRIPTION:
URL:https://www.timbmusic.org/event/fall-band-concert/
LOCATION:NHS Theater
CATEGORIES:Concerts
END:VEVENT
BEGIN:VEVENT
DTSTART;TZID=America/Los_Angeles:20251006T190000
DTEND;TZID=America/Los_Angeles:20251006T203000
DTSTAMP:20260419T222631
CREATED:20250818T230711Z
LAST-MODIFIED:20250818T230711Z
UID:1723-1759777200-1759782600@www.timbmusic.org
SUMMARY:Fall Orchestra Concert
DESCRIPTION:
URL:https://www.timbmusic.org/event/fall-orchestra-concert/
LOCATION:NHS Theater
CATEGORIES:Concerts
END:VEVENT
BEGIN:VEVENT
DTSTART;TZID=America/Los_Angeles:20250930T190000
DTEND;TZID=America/Los_Angeles:20250930T203000
DTSTAMP:20260419T222631
CREATED:20250818T230022Z
LAST-MODIFIED:20250818T230022Z
UID:1721-1759258800-1759264200@www.timbmusic.org
SUMMARY:Vocal Music Fall Concert
DESCRIPTION:
URL:https://www.timbmusic.org/event/vocal-music-fall-concert-2/
LOCATION:NHS Theater
CATEGORIES:Concerts
END:VEVENT
BEGIN:VEVENT
DTSTART;TZID=America/Los_Angeles:20250530T190000
DTEND;TZID=America/Los_Angeles:20250530T210000
DTSTAMP:20260419T222631
CREATED:20240701T060522Z
LAST-MODIFIED:20240701T060522Z
UID:1356-1748631600-1748638800@www.timbmusic.org
SUMMARY:Pops Gala Concert
DESCRIPTION:
URL:https://www.timbmusic.org/event/pops-gala-concert/
LOCATION:NHS Theater
CATEGORIES:Concerts
END:VEVENT
BEGIN:VEVENT
DTSTART;TZID=America/Los_Angeles:20250522T190000
DTEND;TZID=America/Los_Angeles:20250522T203000
DTSTAMP:20260419T222631
CREATED:20240701T060341Z
LAST-MODIFIED:20240701T060341Z
UID:1354-1747940400-1747945800@www.timbmusic.org
SUMMARY:Instrumental Music Pops Concert
DESCRIPTION:
URL:https://www.timbmusic.org/event/instrumental-music-pops-concert-2/
LOCATION:NHS Theater
CATEGORIES:Concerts
END:VEVENT
BEGIN:VEVENT
DTSTART;TZID=America/Los_Angeles:20250521T190000
DTEND;TZID=America/Los_Angeles:20250521T203000
DTSTAMP:20260419T222631
CREATED:20240701T060232Z
LAST-MODIFIED:20240701T060232Z
UID:1352-1747854000-1747859400@www.timbmusic.org
SUMMARY:Instrumental Music Pops Concert
DESCRIPTION:
URL:https://www.timbmusic.org/event/instrumental-music-pops-concert/
LOCATION:NHS Theater
CATEGORIES:Concerts
END:VEVENT
BEGIN:VEVENT
DTSTART;TZID=America/Los_Angeles:20250520T190000
DTEND;TZID=America/Los_Angeles:20250520T203000
DTSTAMP:20260419T222631
CREATED:20240701T060045Z
LAST-MODIFIED:20240701T060045Z
UID:1350-1747767600-1747773000@www.timbmusic.org
SUMMARY:Vocal Music Pops Concert
DESCRIPTION:
URL:https://www.timbmusic.org/event/vocal-music-pops-concert/
LOCATION:NHS Theater
CATEGORIES:Concerts
END:VEVENT
BEGIN:VEVENT
DTSTART;TZID=America/Los_Angeles:20250516T170000
DTEND;TZID=America/Los_Angeles:20250516T200000
DTSTAMP:20260419T222631
CREATED:20240701T055708Z
LAST-MODIFIED:20240701T055708Z
UID:1348-1747414800-1747425600@www.timbmusic.org
SUMMARY:Jazz at the Oak (TBD)
DESCRIPTION:
URL:https://www.timbmusic.org/event/jazz-at-the-oak-tbd/
LOCATION:NHS
CATEGORIES:Concerts
END:VEVENT
BEGIN:VEVENT
DTSTART;TZID=America/Los_Angeles:20250326T190000
DTEND;TZID=America/Los_Angeles:20250326T203000
DTSTAMP:20260419T222631
CREATED:20250115T185213Z
LAST-MODIFIED:20250115T185213Z
UID:1517-1743015600-1743021000@www.timbmusic.org
SUMMARY:IUSD Wind Ensemble Festival
DESCRIPTION:
URL:https://www.timbmusic.org/event/iusd-wind-ensemble-festival-3/
LOCATION:Woodbridge HS\, 2 Meadowbrook\, Irvine\, CA\, 92604\, United States
CATEGORIES:Concerts
END:VEVENT
BEGIN:VEVENT
DTSTART;TZID=America/Los_Angeles:20250320T190000
DTEND;TZID=America/Los_Angeles:20250320T203000
DTSTAMP:20260419T222631
CREATED:20250115T185516Z
LAST-MODIFIED:20250115T185516Z
UID:1521-1742497200-1742502600@www.timbmusic.org
SUMMARY:IUSD Orchestra Festival
DESCRIPTION:
URL:https://www.timbmusic.org/event/iusd-orchestra-festival-3/
LOCATION:Woodbridge HS\, 2 Meadowbrook\, Irvine\, CA\, 92604\, United States
CATEGORIES:Concerts
END:VEVENT
BEGIN:VEVENT
DTSTART;TZID=America/Los_Angeles:20250318T190000
DTEND;TZID=America/Los_Angeles:20250318T203000
DTSTAMP:20260419T222631
CREATED:20250115T185350Z
LAST-MODIFIED:20250115T185350Z
UID:1519-1742324400-1742329800@www.timbmusic.org
SUMMARY:IUSD Jazz Festival
DESCRIPTION:
URL:https://www.timbmusic.org/event/iusd-jazz-festival-3/
LOCATION:Woodbridge HS\, 2 Meadowbrook\, Irvine\, CA\, 92604\, United States
CATEGORIES:Concerts
END:VEVENT
BEGIN:VEVENT
DTSTART;VALUE=DATE:20250315
DTEND;VALUE=DATE:20250316
DTSTAMP:20260419T222631
CREATED:20240701T044154Z
LAST-MODIFIED:20240701T044154Z
UID:1340-1741996800-1742083199@www.timbmusic.org
SUMMARY:Irvine Jazz Festival
DESCRIPTION:
URL:https://www.timbmusic.org/event/irvine-jazz-festival-3/
LOCATION:Irvine HS\, 4321 Walnut Ave\, Irvine\, CA\, 92604\, United States
CATEGORIES:Concerts
END:VEVENT
BEGIN:VEVENT
DTSTART;TZID=America/Los_Angeles:20250311T190000
DTEND;TZID=America/Los_Angeles:20250311T200000
DTSTAMP:20260419T222631
CREATED:20240701T044048Z
LAST-MODIFIED:20240701T044048Z
UID:1338-1741719600-1741723200@www.timbmusic.org
SUMMARY:Vocal Music Spring Concert
DESCRIPTION:
URL:https://www.timbmusic.org/event/vocal-music-spring-concert/
LOCATION:NHS Theater
CATEGORIES:Concerts
END:VEVENT
BEGIN:VEVENT
DTSTART;TZID=America/Los_Angeles:20250306T190000
DTEND;TZID=America/Los_Angeles:20250306T203000
DTSTAMP:20260419T222631
CREATED:20240701T043904Z
LAST-MODIFIED:20250304T230034Z
UID:1336-1741287600-1741293000@www.timbmusic.org
SUMMARY:Instrumental Music Spring Festival Concert - Bands
DESCRIPTION:
URL:https://www.timbmusic.org/event/instrumental-music-spring-festival-concert-2/
LOCATION:NHS Theater
CATEGORIES:Concerts
END:VEVENT
BEGIN:VEVENT
DTSTART;TZID=America/Los_Angeles:20250305T190000
DTEND;TZID=America/Los_Angeles:20250305T203000
DTSTAMP:20260419T222631
CREATED:20240701T043713Z
LAST-MODIFIED:20250304T225946Z
UID:1334-1741201200-1741206600@www.timbmusic.org
SUMMARY:Instrumental Music Spring Festival Concert - Orchestras
DESCRIPTION:
URL:https://www.timbmusic.org/event/instrumental-music-spring-festival-concert/
LOCATION:NHS Theater
CATEGORIES:Concerts
END:VEVENT
BEGIN:VEVENT
DTSTART;VALUE=DATE:20250228
DTEND;VALUE=DATE:20250301
DTSTAMP:20260419T222631
CREATED:20240701T043437Z
LAST-MODIFIED:20250115T182211Z
UID:1332-1740700800-1740787199@www.timbmusic.org
SUMMARY:CSUF Wind Ensemble Festival
DESCRIPTION:
URL:https://www.timbmusic.org/event/csuf-wind-ensemble-festival-2/
LOCATION:CSU Fullerton\, 800 N State College Blvd\, Fullerton\, CA\, 92831\, United States
CATEGORIES:Concerts
END:VEVENT
BEGIN:VEVENT
DTSTART;TZID=America/Los_Angeles:20250108T190000
DTEND;TZID=America/Los_Angeles:20250108T203000
DTSTAMP:20260419T222631
CREATED:20250107T065214Z
LAST-MODIFIED:20250107T065214Z
UID:1504-1736362800-1736368200@www.timbmusic.org
SUMMARY:Northwood Area Concert
DESCRIPTION:
URL:https://www.timbmusic.org/event/northwood-area-concert/
LOCATION:NHS
CATEGORIES:Concerts
END:VEVENT
BEGIN:VEVENT
DTSTART;TZID=America/Los_Angeles:20241213T190000
DTEND;TZID=America/Los_Angeles:20241213T203000
DTSTAMP:20260419T222631
CREATED:20240701T043148Z
LAST-MODIFIED:20240701T061037Z
UID:1328-1734116400-1734121800@www.timbmusic.org
SUMMARY:Winter Gala Concert
DESCRIPTION:
URL:https://www.timbmusic.org/event/winter-gala-3/
LOCATION:NHS Theater
CATEGORIES:Concerts
END:VEVENT
BEGIN:VEVENT
DTSTART;TZID=America/Los_Angeles:20241205T190000
DTEND;TZID=America/Los_Angeles:20241205T203000
DTSTAMP:20260419T222631
CREATED:20240701T043007Z
LAST-MODIFIED:20240701T043007Z
UID:1326-1733425200-1733430600@www.timbmusic.org
SUMMARY:Instrumental Music Winter Concert
DESCRIPTION:
URL:https://www.timbmusic.org/event/instrumental-music-winter-concert-2/
LOCATION:NHS Theater
CATEGORIES:Concerts
END:VEVENT
BEGIN:VEVENT
DTSTART;TZID=America/Los_Angeles:20241204T190000
DTEND;TZID=America/Los_Angeles:20241204T203000
DTSTAMP:20260419T222631
CREATED:20240701T042759Z
LAST-MODIFIED:20240701T042759Z
UID:1324-1733338800-1733344200@www.timbmusic.org
SUMMARY:Instrumental Music Winter Concert
DESCRIPTION:
URL:https://www.timbmusic.org/event/instrumental-music-winter-concert/
LOCATION:NHS Theater
CATEGORIES:Concerts
END:VEVENT
BEGIN:VEVENT
DTSTART;TZID=America/Los_Angeles:20241121T190000
DTEND;TZID=America/Los_Angeles:20241121T200000
DTSTAMP:20260419T222631
CREATED:20240701T042641Z
LAST-MODIFIED:20240701T042641Z
UID:1322-1732215600-1732219200@www.timbmusic.org
SUMMARY:Vocal Music Winter Concert
DESCRIPTION:
URL:https://www.timbmusic.org/event/vocal-music-winter-concert/
LOCATION:NHS Theater
CATEGORIES:Concerts
END:VEVENT
BEGIN:VEVENT
DTSTART;TZID=America/Los_Angeles:20241010T190000
DTEND;TZID=America/Los_Angeles:20241010T203000
DTSTAMP:20260419T222631
CREATED:20240630T180057Z
LAST-MODIFIED:20240701T061316Z
UID:1314-1728586800-1728592200@www.timbmusic.org
SUMMARY:Instrumental Music Fall Concert
DESCRIPTION:
URL:https://www.timbmusic.org/event/instrumental-music-fall-concerts-2/
LOCATION:NHS Theater
CATEGORIES:Concerts
END:VEVENT
BEGIN:VEVENT
DTSTART;TZID=America/Los_Angeles:20241009T190000
DTEND;TZID=America/Los_Angeles:20241009T203000
DTSTAMP:20260419T222631
CREATED:20240630T175901Z
LAST-MODIFIED:20240701T061142Z
UID:1312-1728500400-1728505800@www.timbmusic.org
SUMMARY:Instrumental Music Fall Concert
DESCRIPTION:
URL:https://www.timbmusic.org/event/instrumental-music-fall-concerts/
LOCATION:NHS Theater
CATEGORIES:Concerts
END:VEVENT
BEGIN:VEVENT
DTSTART;TZID=America/Los_Angeles:20241008T190000
DTEND;TZID=America/Los_Angeles:20241008T200000
DTSTAMP:20260419T222631
CREATED:20240630T173417Z
LAST-MODIFIED:20240630T173417Z
UID:1310-1728414000-1728417600@www.timbmusic.org
SUMMARY:Vocal Music Fall Concert
DESCRIPTION:
URL:https://www.timbmusic.org/event/vocal-music-fall-concert/
LOCATION:NHS Theater
CATEGORIES:Concerts
END:VEVENT
BEGIN:VEVENT
DTSTART;TZID=America/Los_Angeles:20240523T190000
DTEND;TZID=America/Los_Angeles:20240523T203000
DTSTAMP:20260419T222631
CREATED:20230907T154150Z
LAST-MODIFIED:20230907T154150Z
UID:1024-1716490800-1716496200@www.timbmusic.org
SUMMARY:POPS Gala
DESCRIPTION:
URL:https://www.timbmusic.org/event/pops-gala-2/
LOCATION:NHS Theater
CATEGORIES:Concerts
END:VEVENT
BEGIN:VEVENT
DTSTART;TZID=America/Los_Angeles:20240522T190000
DTEND;TZID=America/Los_Angeles:20240522T200000
DTSTAMP:20260419T222631
CREATED:20230907T154043Z
LAST-MODIFIED:20230907T154043Z
UID:1022-1716404400-1716408000@www.timbmusic.org
SUMMARY:POPS Concert - Odd Day Ensembles
DESCRIPTION:
URL:https://www.timbmusic.org/event/pops-concert-odd-day-ensembles/
LOCATION:NHS Theater
CATEGORIES:Concerts
END:VEVENT
END:VCALENDAR