BEGIN:VCALENDAR
VERSION:2.0
PRODID:-//Timb Music - ECPv6.15.20//NONSGML v1.0//EN
CALSCALE:GREGORIAN
METHOD:PUBLISH
X-WR-CALNAME:Timb Music
X-ORIGINAL-URL:https://www.timbmusic.org
X-WR-CALDESC:Events for Timb Music
REFRESH-INTERVAL;VALUE=DURATION:PT1H
X-Robots-Tag:noindex
X-PUBLISHED-TTL:PT1H
BEGIN:VTIMEZONE
TZID:America/Los_Angeles
BEGIN:DAYLIGHT
TZOFFSETFROM:-0800
TZOFFSETTO:-0700
TZNAME:PDT
DTSTART:20230312T100000
END:DAYLIGHT
BEGIN:STANDARD
TZOFFSETFROM:-0700
TZOFFSETTO:-0800
TZNAME:PST
DTSTART:20231105T090000
END:STANDARD
BEGIN:DAYLIGHT
TZOFFSETFROM:-0800
TZOFFSETTO:-0700
TZNAME:PDT
DTSTART:20240310T100000
END:DAYLIGHT
BEGIN:STANDARD
TZOFFSETFROM:-0700
TZOFFSETTO:-0800
TZNAME:PST
DTSTART:20241103T090000
END:STANDARD
BEGIN:DAYLIGHT
TZOFFSETFROM:-0800
TZOFFSETTO:-0700
TZNAME:PDT
DTSTART:20250309T100000
END:DAYLIGHT
BEGIN:STANDARD
TZOFFSETFROM:-0700
TZOFFSETTO:-0800
TZNAME:PST
DTSTART:20251102T090000
END:STANDARD
END:VTIMEZONE
BEGIN:VEVENT
DTSTART;VALUE=DATE:20240820
DTEND;VALUE=DATE:20240821
DTSTAMP:20260419T142451
CREATED:20240630T170615Z
LAST-MODIFIED:20240630T170615Z
UID:1296-1724112000-1724198399@www.timbmusic.org
SUMMARY:First Day of School
DESCRIPTION:
URL:https://www.timbmusic.org/event/first-day-of-school/
CATEGORIES:Other
END:VEVENT
BEGIN:VEVENT
DTSTART;VALUE=DATE:20240425
DTEND;VALUE=DATE:20240429
DTSTAMP:20260419T142451
CREATED:20240222T230016Z
LAST-MODIFIED:20240222T230016Z
UID:1177-1714003200-1714348799@www.timbmusic.org
SUMMARY:Reno Jazz Festival
DESCRIPTION:
URL:https://www.timbmusic.org/event/reno-jazz-festival/
LOCATION:University of Navada\, 1664 N Virginia St\, Reno\, NV\, 89557\, United States
CATEGORIES:Other
END:VEVENT
BEGIN:VEVENT
DTSTART;TZID=America/Los_Angeles:20240421T150000
DTEND;TZID=America/Los_Angeles:20240421T180000
DTSTAMP:20260419T142451
CREATED:20240411T204128Z
LAST-MODIFIED:20240411T204128Z
UID:1255-1713711600-1713722400@www.timbmusic.org
SUMMARY:Senior Portraits
DESCRIPTION:ALL INSTRUMENTAL MUSIC SENIORS: SENIOR PORTRAITS!\nOne of the traditions in Instrumental Music is taking senior portraits in formal concert attire. The Instrumental Music Senior Photo Shoot will be taking place next weekend\, 4/20-4/21\, from 3:00-6:00pm each day. THESE PHOTOS ARE FREE AND A GREAT WAY TO CELEBRATE OUR SENIORS!  They will be included in our end-of-the-year slideshow\, and we hope to give each senior family a copy as a “thank you” gift. \nStudents will need to wear their formal concert attire and bring their instruments with them as will be 501 will be locked. Parents/sibling/buddy photos will be allowed\, time permitting. Please signup for your free photo session HERE. \n\nWEAR your formal concert attire\nBRING your instrument. Bring your instrument home on FRIDAY\, as Room 501 will be locked during the photo shoot\nMEET in front of the NHS Theater\nPARENTS/SIBLINGS/BUDDIES may also be included in the photo shoot\, time permitting\nWe also need VOLUNTEERS to assist the TIMB photographers. Please sign up HERE to help. Thank you!
URL:https://www.timbmusic.org/event/senior-portraits-2/
LOCATION:NHS Theater
CATEGORIES:Other
END:VEVENT
BEGIN:VEVENT
DTSTART;TZID=America/Los_Angeles:20240420T150000
DTEND;TZID=America/Los_Angeles:20240420T180000
DTSTAMP:20260419T142451
CREATED:20240411T203957Z
LAST-MODIFIED:20240411T204027Z
UID:1252-1713625200-1713636000@www.timbmusic.org
SUMMARY:Senior Portraits
DESCRIPTION:ALL INSTRUMENTAL MUSIC SENIORS: SENIOR PORTRAITS!\nOne of the traditions in Instrumental Music is taking senior portraits in formal concert attire. The Instrumental Music Senior Photo Shoot will be taking place next weekend\, 4/20-4/21\, from 3:00-6:00pm each day. THESE PHOTOS ARE FREE AND A GREAT WAY TO CELEBRATE OUR SENIORS!  They will be included in our end-of-the-year slideshow\, and we hope to give each senior family a copy as a “thank you” gift. \nStudents will need to wear their formal concert attire and bring their instruments with them as will be 501 will be locked. Parents/sibling/buddy photos will be allowed\, time permitting. Please signup for your free photo session HERE. \n\nWEAR your formal concert attire\nBRING your instrument. Bring your instrument home on FRIDAY\, as Room 501 will be locked during the photo shoot\nMEET in front of the NHS Theater\nPARENTS/SIBLINGS/BUDDIES may also be included in the photo shoot\, time permitting\nWe also need VOLUNTEERS to assist the TIMB photographers. Please sign up HERE to help. Thank you!
URL:https://www.timbmusic.org/event/senior-portraits/
LOCATION:NHS Theater
CATEGORIES:Other
END:VEVENT
BEGIN:VEVENT
DTSTART;VALUE=DATE:20240302
DTEND;VALUE=DATE:20240303
DTSTAMP:20260419T142451
CREATED:20240111T005936Z
LAST-MODIFIED:20240222T224857Z
UID:1148-1709337600-1709423999@www.timbmusic.org
SUMMARY:CSUF Winds Festival
DESCRIPTION:Our Wind Ensemble and Wind Symphony bands will be joining high schools from across southern CA and performing at the CSUF Winds Festival on Saturday\, 3/2. Friends and family are welcome and encouraged to come watch us perform at 4:30pm in Meng Hall. The concert is free! \nWe could also use a few chaperones from each band to assist our students that day. Transportation and food will be provided. Pleae click here if you are able to assist. Thank you for your support!
URL:https://www.timbmusic.org/event/csuf-winds-festival/
LOCATION:CSU Fullerton\, 800 N State College Blvd\, Fullerton\, CA\, 92831\, United States
CATEGORIES:Other
END:VEVENT
BEGIN:VEVENT
DTSTART;TZID=America/Los_Angeles:20240224T190000
DTEND;TZID=America/Los_Angeles:20240224T210000
DTSTAMP:20260419T142451
CREATED:20240222T224520Z
LAST-MODIFIED:20240222T224520Z
UID:1170-1708801200-1708808400@www.timbmusic.org
SUMMARY:Freaky Friday Musical
DESCRIPTION:
URL:https://www.timbmusic.org/event/freaky-friday-musical-3/
LOCATION:NHS Theater
CATEGORIES:Other
END:VEVENT
BEGIN:VEVENT
DTSTART;TZID=America/Los_Angeles:20240224T140000
DTEND;TZID=America/Los_Angeles:20240224T160000
DTSTAMP:20260419T142451
CREATED:20240222T224636Z
LAST-MODIFIED:20240222T224636Z
UID:1172-1708783200-1708790400@www.timbmusic.org
SUMMARY:Freaky Friday Musical
DESCRIPTION:
URL:https://www.timbmusic.org/event/freaky-friday-musical-4/
LOCATION:NHS Theater
CATEGORIES:Other
END:VEVENT
BEGIN:VEVENT
DTSTART;TZID=America/Los_Angeles:20240223T190000
DTEND;TZID=America/Los_Angeles:20240223T210000
DTSTAMP:20260419T142451
CREATED:20240222T224422Z
LAST-MODIFIED:20240222T224422Z
UID:1168-1708714800-1708722000@www.timbmusic.org
SUMMARY:Freaky Friday Musical
DESCRIPTION:
URL:https://www.timbmusic.org/event/freaky-friday-musical-2/
LOCATION:NHS Theater
CATEGORIES:Other
END:VEVENT
BEGIN:VEVENT
DTSTART;TZID=America/Los_Angeles:20240222T190000
DTEND;TZID=America/Los_Angeles:20240222T210000
DTSTAMP:20260419T142451
CREATED:20240222T224319Z
LAST-MODIFIED:20240222T224319Z
UID:1166-1708628400-1708635600@www.timbmusic.org
SUMMARY:Freaky Friday Musical
DESCRIPTION:
URL:https://www.timbmusic.org/event/freaky-friday-musical/
LOCATION:NHS Theater
CATEGORIES:Other
END:VEVENT
END:VCALENDAR