BEGIN:VCALENDAR
VERSION:2.0
PRODID:-//Timb Music - ECPv6.15.20//NONSGML v1.0//EN
CALSCALE:GREGORIAN
METHOD:PUBLISH
X-WR-CALNAME:Timb Music
X-ORIGINAL-URL:https://www.timbmusic.org
X-WR-CALDESC:Events for Timb Music
REFRESH-INTERVAL;VALUE=DURATION:PT1H
X-Robots-Tag:noindex
X-PUBLISHED-TTL:PT1H
BEGIN:VTIMEZONE
TZID:America/Los_Angeles
BEGIN:DAYLIGHT
TZOFFSETFROM:-0800
TZOFFSETTO:-0700
TZNAME:PDT
DTSTART:20240310T100000
END:DAYLIGHT
BEGIN:STANDARD
TZOFFSETFROM:-0700
TZOFFSETTO:-0800
TZNAME:PST
DTSTART:20241103T090000
END:STANDARD
BEGIN:DAYLIGHT
TZOFFSETFROM:-0800
TZOFFSETTO:-0700
TZNAME:PDT
DTSTART:20250309T100000
END:DAYLIGHT
BEGIN:STANDARD
TZOFFSETFROM:-0700
TZOFFSETTO:-0800
TZNAME:PST
DTSTART:20251102T090000
END:STANDARD
BEGIN:DAYLIGHT
TZOFFSETFROM:-0800
TZOFFSETTO:-0700
TZNAME:PDT
DTSTART:20260308T100000
END:DAYLIGHT
BEGIN:STANDARD
TZOFFSETFROM:-0700
TZOFFSETTO:-0800
TZNAME:PST
DTSTART:20261101T090000
END:STANDARD
END:VTIMEZONE
BEGIN:VEVENT
DTSTART;VALUE=DATE:20250903
DTEND;VALUE=DATE:20250904
DTSTAMP:20260419T114314
CREATED:20250818T225446Z
LAST-MODIFIED:20250818T225446Z
UID:1717-1756857600-1756943999@www.timbmusic.org
SUMMARY:Meet the Pack Night
DESCRIPTION:
URL:https://www.timbmusic.org/event/meet-the-pack-night/
LOCATION:NHS
CATEGORIES:Other
END:VEVENT
BEGIN:VEVENT
DTSTART;TZID=America/Los_Angeles:20250908T183000
DTEND;TZID=America/Los_Angeles:20250908T193000
DTSTAMP:20260419T114314
CREATED:20250819T010225Z
LAST-MODIFIED:20250819T010225Z
UID:1789-1757356200-1757359800@www.timbmusic.org
SUMMARY:TIMB Meeting
DESCRIPTION:
URL:https://www.timbmusic.org/event/timb-meeting-35/
LOCATION:Zoom
CATEGORIES:Meeting
END:VEVENT
BEGIN:VEVENT
DTSTART;TZID=America/Los_Angeles:20250912T173000
DTEND;TZID=America/Los_Angeles:20250912T213000
DTSTAMP:20260419T114314
CREATED:20250719T191317Z
LAST-MODIFIED:20250719T191317Z
UID:1660-1757698200-1757712600@www.timbmusic.org
SUMMARY:Home Football Game vs Woodbridge @ IHS
DESCRIPTION:
URL:https://www.timbmusic.org/event/home-football-game-vs-woodbridge-ihs/
LOCATION:Irvine HS\, 4321 Walnut Ave\, Irvine\, CA\, 92604\, United States
CATEGORIES:Marching Band
END:VEVENT
BEGIN:VEVENT
DTSTART;TZID=America/Los_Angeles:20250919T173000
DTEND;TZID=America/Los_Angeles:20250919T213000
DTSTAMP:20260419T114314
CREATED:20250719T191434Z
LAST-MODIFIED:20250719T191434Z
UID:1662-1758303000-1758317400@www.timbmusic.org
SUMMARY:Home Football Game vs Portola @ IHS
DESCRIPTION:
URL:https://www.timbmusic.org/event/home-football-game-vs-portola-ihs/
LOCATION:Irvine HS\, 4321 Walnut Ave\, Irvine\, CA\, 92604\, United States
CATEGORIES:Marching Band
END:VEVENT
BEGIN:VEVENT
DTSTART;VALUE=DATE:20250929
DTEND;VALUE=DATE:20251004
DTSTAMP:20260419T114314
CREATED:20250818T225711Z
LAST-MODIFIED:20250818T225711Z
UID:1719-1759104000-1759535999@www.timbmusic.org
SUMMARY:Fall Conference Week
DESCRIPTION:
URL:https://www.timbmusic.org/event/fall-conference-week/
LOCATION:NHS
CATEGORIES:Other
END:VEVENT
BEGIN:VEVENT
DTSTART;TZID=America/Los_Angeles:20250930T190000
DTEND;TZID=America/Los_Angeles:20250930T203000
DTSTAMP:20260419T114314
CREATED:20250818T230022Z
LAST-MODIFIED:20250818T230022Z
UID:1721-1759258800-1759264200@www.timbmusic.org
SUMMARY:Vocal Music Fall Concert
DESCRIPTION:
URL:https://www.timbmusic.org/event/vocal-music-fall-concert-2/
LOCATION:NHS Theater
CATEGORIES:Concerts
END:VEVENT
END:VCALENDAR